BEGIN:VCALENDAR
VERSION:2.0
PRODID:-//Talks.cam//talks.cam.ac.uk//
X-WR-CALNAME:Talks.cam
BEGIN:VEVENT
SUMMARY:Fragile X Syndrome: Lifespan developmental implications for those 
 without as well as with intellectual disability. - Professor Jeremy Turk\,
  Consultant Child and Adolescent Psychiatrist\, Michael Rutter Centre\, Th
 e Maudsley Hospital\, Denmark Hill\, London SE5 8AZ
DTSTART:20100303T123000Z
DTEND:20100303T133000Z
UID:TALK20287@talks.cam.ac.uk
CONTACT:Sarah White
DESCRIPTION:Abstract not available
LOCATION:Large Meeting Room\, Douglas House
END:VEVENT
END:VCALENDAR
