BEGIN:VCALENDAR
VERSION:2.0
PRODID:-//Talks.cam//talks.cam.ac.uk//
X-WR-CALNAME:Talks.cam
BEGIN:VEVENT
SUMMARY:Individual differences in associative learning underlying vulnerab
 ility to making the transition from recreational drug use to dependence - 
 Dr Lee Hogarth  - Lecturer\, School of Psychology\, University of Nottingh
 am
DTSTART:20091109T130500Z
DTEND:20091109T140000Z
UID:TALK20293@talks.cam.ac.uk
CONTACT:Nicola Richmond
DESCRIPTION:Abstract not available
LOCATION:Mondays (unless otherwise stated)\, 13.05 – 14.00 in the Kennet
 h Craik Room\, Craik Marshall Building\, Downing Site
END:VEVENT
END:VCALENDAR
