BEGIN:VCALENDAR
VERSION:2.0
PRODID:-//Talks.cam//talks.cam.ac.uk//
X-WR-CALNAME:Talks.cam
BEGIN:VEVENT
SUMMARY:Title to be confirmed - Melanie Brinkmann	
DTSTART:20230922T120000Z
DTEND:20230922T130000Z
UID:TALK203164@talks.cam.ac.uk
CONTACT:Laura M
DESCRIPTION:Hosted by Mike Weekes
LOCATION:Jeffrey Cheah Biomedical Centre Lecture Theatre
END:VEVENT
END:VCALENDAR
