BEGIN:VCALENDAR
VERSION:2.0
PRODID:-//Talks.cam//talks.cam.ac.uk//
X-WR-CALNAME:Talks.cam
BEGIN:VEVENT
SUMMARY:Title to be confirmed - Ivan Ahel	
DTSTART:20231006T120000Z
DTEND:20231006T130000Z
UID:TALK203170@talks.cam.ac.uk
CONTACT:Laura M
DESCRIPTION:Hosted by James Nathan
LOCATION:Jeffrey Cheah Biomedical Centre Lecture Theatre
END:VEVENT
END:VCALENDAR
