BEGIN:VCALENDAR
VERSION:2.0
PRODID:-//Talks.cam//talks.cam.ac.uk//
X-WR-CALNAME:Talks.cam
BEGIN:VEVENT
SUMMARY:Recognition of realistic auditory-visual objects: animal sounds ar
 e special - Clara Suied (Centre for the Neural Basis of Hearing\, Departme
 nt of Physiology\, Development and Neuroscience\, University of Cambridge)
DTSTART:20091104T123000Z
DTEND:20091104T133000Z
UID:TALK20331@talks.cam.ac.uk
CONTACT:Mandy Carter
DESCRIPTION:Abstract not available
LOCATION:Lecture Theatre\, MRC Cognition and Brain Sciences Unit\, Chaucer
  Road
END:VEVENT
END:VCALENDAR
