BEGIN:VCALENDAR
VERSION:2.0
PRODID:-//Talks.cam//talks.cam.ac.uk//
X-WR-CALNAME:Talks.cam
BEGIN:VEVENT
SUMMARY:Molecular simulations of the E. coli cell wall: successes and chal
 lenges - Syma  Khalid (University of Oxford)
DTSTART:20231024T132500Z
DTEND:20231024T135000Z
UID:TALK203476@talks.cam.ac.uk
DESCRIPTION:
LOCATION:Seminar Room 1\, Newton Institute
END:VEVENT
END:VCALENDAR
