BEGIN:VCALENDAR
VERSION:2.0
PRODID:-//Talks.cam//talks.cam.ac.uk//
X-WR-CALNAME:Talks.cam
BEGIN:VEVENT
SUMMARY:Consistent truncations and D=2 gravity - Axel Kleinschmidt (Max-Pl
 anck-Institut für Gravitationphysik)
DTSTART:20231011T093000Z
DTEND:20231011T110000Z
UID:TALK204274@talks.cam.ac.uk
DESCRIPTION:In this talk I will review the problem of consistent truncatio
 ns that has been central in (super-)gravity for finding non-linear solutio
 ns for a long time. Particular emphasis will be put on using geometric and
  algebraic methods and their application to two-dimensional gravity where 
 the methods become particularly striking. I will also report on recent pro
 gress in this direction with Guillaume Bossard\, Franz Ciceri and Gianluca
  Inverso.&nbsp\;
LOCATION:Seminar Room 2\, Newton Institute
END:VEVENT
END:VCALENDAR
