BEGIN:VCALENDAR
VERSION:2.0
PRODID:-//Talks.cam//talks.cam.ac.uk//
X-WR-CALNAME:Talks.cam
BEGIN:VEVENT
SUMMARY:Dyer groups: Coxter groups\, right-angled Artin groups and more - 
 Mireille Soergel\, MPI Leipzig
DTSTART:20231110T134500Z
DTEND:20231110T144500Z
UID:TALK204364@talks.cam.ac.uk
CONTACT:Macarena Arenas
DESCRIPTION:Dyer groups are a family encompassing both Coxeter groups and 
 right-angled Artin groups. Each of these two classes of groups have natura
 l piecewise Euclidean CAT(0) spaces associated to them: the Davis-Moussong
  complex for Coxeter groups and the Salvetti complex for right-angled Arti
 n groups. In this talk I will introduce Dyer groups and give some of their
  properties.
LOCATION:MR13
END:VEVENT
END:VCALENDAR
