BEGIN:VCALENDAR
VERSION:2.0
PRODID:-//Talks.cam//talks.cam.ac.uk//
X-WR-CALNAME:Talks.cam
BEGIN:VEVENT
SUMMARY:UK Graduate Modelling Camp – Mentor and Mentee perspectives - Li
 na Simeonova (University of Kent)\, Joshua Finn (University of Nottingham)
 \, Joshua Oyedele (University of Warwick)
DTSTART:20231114T154500Z
DTEND:20231114T161500Z
UID:TALK204469@talks.cam.ac.uk
DESCRIPTION:
LOCATION:Seminar Room 1\, Newton Institute
END:VEVENT
END:VCALENDAR
