BEGIN:VCALENDAR
VERSION:2.0
PRODID:-//Talks.cam//talks.cam.ac.uk//
X-WR-CALNAME:Talks.cam
BEGIN:VEVENT
SUMMARY:Tissue models with and without active feedback - Silke Henkes (Uni
 versiteit Leiden)
DTSTART:20230829T140000Z
DTEND:20230829T150000Z
UID:TALK204571@talks.cam.ac.uk
DESCRIPTION:
LOCATION:Seminar Room 2\, Newton Institute
END:VEVENT
END:VCALENDAR
