BEGIN:VCALENDAR
VERSION:2.0
PRODID:-//Talks.cam//talks.cam.ac.uk//
X-WR-CALNAME:Talks.cam
BEGIN:VEVENT
SUMMARY:no meeting - no talk
DTSTART:20230908T150000Z
DTEND:20230908T160000Z
UID:TALK204748@talks.cam.ac.uk
CONTACT:Markus Kuhn
DESCRIPTION:Abstract not available
LOCATION:Computer Laboratory\, William Gates Building\, Room FW26
END:VEVENT
END:VCALENDAR
