BEGIN:VCALENDAR
VERSION:2.0
PRODID:-//Talks.cam//talks.cam.ac.uk//
X-WR-CALNAME:Talks.cam
BEGIN:VEVENT
SUMMARY:Shrinking Down Nutrition: Nanofoods - Dr Dora Pereira\, MRC Human 
 Nutrition Research
DTSTART:20091014T183000Z
DTEND:20091014T193000Z
UID:TALK20505@talks.cam.ac.uk
CONTACT:Jennifer Molloy
DESCRIPTION:An informal introduction to the science of micronutrients with
  Dr Dora Pereira\, MRC Human Nutrition Research\, followed by a discussion
  and refreshments.\n\nThis free event is sponsored by the MRC. \nA podcast
  recording of the event will be made by the Naked Scientists\, sponsored b
 y The Learning Revolution.\n\nCafe Scientifique is a place where\, for the
  price of a cup of coffee or a glass of wine\, anyone can come to discuss 
 the science that is changing our lives with the people who are making the 
 discoveries. Join us every month\, when a different scientist will informa
 lly discuss their work and take questions from the floor.
LOCATION:Larkum Studio\, ADC Theatre\, Park Street\, Cambridge
END:VEVENT
END:VCALENDAR
