BEGIN:VCALENDAR
VERSION:2.0
PRODID:-//Talks.cam//talks.cam.ac.uk//
X-WR-CALNAME:Talks.cam
BEGIN:VEVENT
SUMMARY:Symplectic Topology - Introductory lunchtime talk - Adrian Dawid\,
  University of Cambridge
DTSTART:20231023T120000Z
DTEND:20231023T130000Z
UID:TALK205099@talks.cam.ac.uk
CONTACT:Siao Chi Mok
DESCRIPTION:This is a series of weekly informal talks – join us over tea
  or coffee to learn the basic concepts of your fellow PhD students’ rese
 arch areas!
LOCATION:MR13
END:VEVENT
END:VCALENDAR
