BEGIN:VCALENDAR
VERSION:2.0
PRODID:-//Talks.cam//talks.cam.ac.uk//
X-WR-CALNAME:Talks.cam
BEGIN:VEVENT
SUMMARY:Theory of Rheology and Aging of Protein Condensates - Ryota Takaki
  (Max Planck Institute for the Physics of Complex Systems)
DTSTART:20230914T153500Z
DTEND:20230914T154000Z
UID:TALK205198@talks.cam.ac.uk
DESCRIPTION:
LOCATION:Centre for Mathematical Sciences
END:VEVENT
END:VCALENDAR
