BEGIN:VCALENDAR
VERSION:2.0
PRODID:-//Talks.cam//talks.cam.ac.uk//
X-WR-CALNAME:Talks.cam
BEGIN:VEVENT
SUMMARY:Informatics-based approaches to natural products discovery in an a
 ge of reisolation - Professor Roger Linington\, Simon Fraser University
DTSTART:20231030T143000Z
DTEND:20231030T153000Z
UID:TALK205567@talks.cam.ac.uk
CONTACT:Jasmine Mitchell
DESCRIPTION:Abstract not available
LOCATION:Dept. of Chemistry\, Wolfson Lecture Theatre
END:VEVENT
END:VCALENDAR
