BEGIN:VCALENDAR
VERSION:2.0
PRODID:-//Talks.cam//talks.cam.ac.uk//
X-WR-CALNAME:Talks.cam
BEGIN:VEVENT
SUMMARY:Title to be confirmed - Melvyn Weeks (University of Cambridge)
DTSTART:20091116T123000Z
DTEND:20091116T135000Z
UID:TALK20571@talks.cam.ac.uk
CONTACT:Madie Armstrong
DESCRIPTION:Abstract not available
LOCATION:Castle Teaching Room\, Judge Business School
END:VEVENT
END:VCALENDAR
