BEGIN:VCALENDAR
VERSION:2.0
PRODID:-//Talks.cam//talks.cam.ac.uk//
X-WR-CALNAME:Talks.cam
BEGIN:VEVENT
SUMMARY:Spaces of Risk and Public Health: hospital\, school and home in Vi
 ctorian Britain - Graham Mooney\, John Hopkins University\, Baltimore
DTSTART:20091105T170000Z
DTEND:20091105T183000Z
UID:TALK20581@talks.cam.ac.uk
DESCRIPTION:Abstract not available
LOCATION:Graham Storey Room\, Trinity Hall
END:VEVENT
END:VCALENDAR
