BEGIN:VCALENDAR
VERSION:2.0
PRODID:-//Talks.cam//talks.cam.ac.uk//
X-WR-CALNAME:Talks.cam
BEGIN:VEVENT
SUMMARY:Undulatory Swimming in Suspensions and Networks of Flexible Filame
 nts - Adam Townsend\, Durham University
DTSTART:20231130T130000Z
DTEND:20231130T140000Z
UID:TALK205819@talks.cam.ac.uk
CONTACT:Lloyd Fung
DESCRIPTION:Microorganisms swimming through viscoelastic fluids are a comm
 on feature in naturally-occurring fluids. Approaches to modelling this beh
 aviour normally come in two flavours: a macroscale\, course-grained approa
 ch where the fluid is modelled as a continuum\; and a microscale\, detaile
 d approach where the anisotropic structure within the background fluid is 
 specifically modelled. The former approach has the benefit of speed\, but 
 in this talk I will share my experience of attempting the latter\, in 3D\,
  using high-performance computer simulations\, and show how these simulati
 ons suggest the physical structure of the viscoelastic fluid directly affe
 cts the microorganism swimming through it. We see some surprising differen
 ces with 2D and investigate why this might be so.
LOCATION:MR15\,  Centre for Mathematical Sciences\, Wilberforce Road\, Cam
 bridge
END:VEVENT
END:VCALENDAR
