BEGIN:VCALENDAR
VERSION:2.0
PRODID:-//Talks.cam//talks.cam.ac.uk//
X-WR-CALNAME:Talks.cam
BEGIN:VEVENT
SUMMARY:Goldman Sachs - Quantitative Finance and AI - Matteo Pozzi\, Assoc
 iate on the Applied AI team at Goldman Sachs
DTSTART:20231113T130500Z
DTEND:20231113T135500Z
UID:TALK206041@talks.cam.ac.uk
CONTACT:Ben Karniely
DESCRIPTION:Matteo Pozzi from the Applied AI team at Goldman Sachs will be
  giving us an introductory talk to the field of Quantitative Finance. Duri
 ng the talk\, Matteo will give an overview of common problems in the space
  and how they are tackled in the academic literature both with traditional
  solutions\, as well as more recent machine learning/AI techniques.\n\nSom
 e catering will be provided.
LOCATION:FW26\, William Gates Building
END:VEVENT
END:VCALENDAR
