BEGIN:VCALENDAR
VERSION:2.0
PRODID:-//Talks.cam//talks.cam.ac.uk//
X-WR-CALNAME:Talks.cam
BEGIN:VEVENT
SUMMARY:Quantum dot based nanophotonics: Optical control of charge spin st
 ates - Prof Jonathan Finley (Walter Schottky Institut\, Germany)
DTSTART:20091207T143000Z
DTEND:20091207T160000Z
UID:TALK20617@talks.cam.ac.uk
CONTACT:6270
DESCRIPTION:Abstract not available
LOCATION:RutherfordEP Seminar Room (980) Rutherford Building\, Cavendish L
 aboratory
END:VEVENT
END:VCALENDAR
