BEGIN:VCALENDAR
VERSION:2.0
PRODID:-//Talks.cam//talks.cam.ac.uk//
X-WR-CALNAME:Talks.cam
BEGIN:VEVENT
SUMMARY:Unfinished business regarding the Milankovitch theory of the Ice A
 ges - David Hodell (Dept. of Earth Sciences\, University of Cambridge)
DTSTART:20091014T153000Z
DTEND:20091014T163000Z
UID:TALK20634@talks.cam.ac.uk
CONTACT:Jessica Irving
DESCRIPTION:Abstract not available
LOCATION:Marine/Wolfson Building lecture hall
END:VEVENT
END:VCALENDAR
