BEGIN:VCALENDAR
VERSION:2.0
PRODID:-//Talks.cam//talks.cam.ac.uk//
X-WR-CALNAME:Talks.cam
BEGIN:VEVENT
SUMMARY:A consideration of the effects of dust aerosol and surface dust on
  Snowball Earth deglaciation - Dorian Abbot (Dept. of Geophysical Sciences
 \, University of Chicago)
DTSTART:20091118T163000Z
DTEND:20091118T173000Z
UID:TALK20641@talks.cam.ac.uk
CONTACT:Jessica Irving
DESCRIPTION:Abstract not available
LOCATION:Marine/Wolfson Building lecture hall
END:VEVENT
END:VCALENDAR
