BEGIN:VCALENDAR
VERSION:2.0
PRODID:-//Talks.cam//talks.cam.ac.uk//
X-WR-CALNAME:Talks.cam
BEGIN:VEVENT
SUMMARY:Do Neandertal and Modern Human Neanderthal craniofacial difference
 s reflect contrasting sexual selection for vocal pitch? - Professor Stanle
 y Ambrose ( University of Illinois Urbana-Champaign)
DTSTART:20231011T153000Z
DTEND:20231011T163000Z
UID:TALK206737@talks.cam.ac.uk
CONTACT:Dr Mark Dyble
DESCRIPTION:Enhanced sexual dimorphism in great ape craniofacial dimension
 s is associated with intergroup aggression and mate competition\, and with
  high testosterone levels. Testosterone influences suprapharyngeal vocal t
 ract (SVT) length and vocal pitch. Differences in epigenetic regulation of
  genes that affect vocal tract and facial anatomy between neanderthal and 
 modern human ancient DNA suggests down-regulation of SVT genes can account
  for facial reduction in modern humans. Epigenetics supports the hypothesi
 s that sexual selection on vocal pitch may explain many differences betwee
 n neanderthal and modern human cranio-facial morphology.
LOCATION:Seminar Room\, Henry Wellcome Building &amp\; on Zoom -https://zo
 om.us/meeting/register/tJEkcuCtrTwoG9I1M856dIPOpwYUO3q4WdIv
END:VEVENT
END:VCALENDAR
