BEGIN:VCALENDAR
VERSION:2.0
PRODID:-//Talks.cam//talks.cam.ac.uk//
X-WR-CALNAME:Talks.cam
BEGIN:VEVENT
SUMMARY:Towards effective data-driven models of morphogenesis - Joel Dokme
 gang (Northwestern University)
DTSTART:20231011T130000Z
DTEND:20231011T140000Z
UID:TALK207097@talks.cam.ac.uk
DESCRIPTION:
LOCATION:Seminar Room 2\, Newton Institute
END:VEVENT
END:VCALENDAR
