BEGIN:VCALENDAR
VERSION:2.0
PRODID:-//Talks.cam//talks.cam.ac.uk//
X-WR-CALNAME:Talks.cam
BEGIN:VEVENT
SUMMARY:Mediated Panel Discussion - David Berman (Queen Mary University of
  London)\, Andrea Liu (University of Pennsylvania)\, José Miguel Hernánd
 ez-Lobato (University of Cambridge)\, Thomas Fischbacher (Google)
DTSTART:20231108T134500Z
DTEND:20231108T151500Z
UID:TALK208078@talks.cam.ac.uk
DESCRIPTION:
LOCATION:External
END:VEVENT
END:VCALENDAR
