BEGIN:VCALENDAR
VERSION:2.0
PRODID:-//Talks.cam//talks.cam.ac.uk//
X-WR-CALNAME:Talks.cam
BEGIN:VEVENT
SUMMARY:&quot\;Phylogenetic\, ontogenetic and adult adaptive plasticity of
  rhythmic neural networks&quot\; - Pierre Meyrand (University of Bordeaux)
DTSTART:20091118T123000Z
DTEND:20091118T133000Z
UID:TALK20820@talks.cam.ac.uk
CONTACT:Diane Pearce
DESCRIPTION:Abstract not available
LOCATION:Library\, Sub-Department of Animal Behaviour\, Madingley
END:VEVENT
END:VCALENDAR
