BEGIN:VCALENDAR
VERSION:2.0
PRODID:-//Talks.cam//talks.cam.ac.uk//
X-WR-CALNAME:Talks.cam
BEGIN:VEVENT
SUMMARY:Sustainable Transportation System in China - Dr Y-C Du\, School of
  Traffic Engineering\, Tongji University\, China
DTSTART:20091016T080000Z
DTEND:20091016T090000Z
UID:TALK20830@talks.cam.ac.uk
CONTACT:Rosalie Orriss
DESCRIPTION:Transportation system is the key part of infrastructure for a 
 city towards sustainable development. Configuration of road network\, stru
 cture and material of pavement\, and policies of traffic management have g
 reat influence over efficiency of transportation system. New pavement tech
 nologies and traffic planning models have been developed to support the su
 stainable transportation system in China. Application samples are demonstr
 ated\, including scheme of traffic planning for 2010 Shanghai Expo.
LOCATION:LR11\, Engineering\, Department of
END:VEVENT
END:VCALENDAR
