BEGIN:VCALENDAR
VERSION:2.0
PRODID:-//Talks.cam//talks.cam.ac.uk//
X-WR-CALNAME:Talks.cam
BEGIN:VEVENT
SUMMARY:Resiliency of Fluctuating Layered Ordered States - A Reduced Model
  - Fredy Ramirez (UC San Diego)
DTSTART:20240118T150000Z
DTEND:20240118T153000Z
UID:TALK208513@talks.cam.ac.uk
DESCRIPTION:
LOCATION:Seminar Room 1\, Newton Institute
END:VEVENT
END:VCALENDAR
