BEGIN:VCALENDAR
VERSION:2.0
PRODID:-//Talks.cam//talks.cam.ac.uk//
X-WR-CALNAME:Talks.cam
BEGIN:VEVENT
SUMMARY:How non-Markovian stochastic processes and probability ridges help
  us understand space use in wild animals - Bill Fagan (University of Maryl
 and\, College Park)
DTSTART:20231117T140000Z
DTEND:20231117T150000Z
UID:TALK208654@talks.cam.ac.uk
DESCRIPTION:
LOCATION:Seminar Room 2\, Newton Institute
END:VEVENT
END:VCALENDAR
