BEGIN:VCALENDAR
VERSION:2.0
PRODID:-//Talks.cam//talks.cam.ac.uk//
X-WR-CALNAME:Talks.cam
BEGIN:VEVENT
SUMMARY:The American Welfare State and Social Contract in Hard Times - Mic
 hael Katz\, University of Pennsylvania
DTSTART:20091014T160000Z
DTEND:20091014T173000Z
UID:TALK20943@talks.cam.ac.uk
DESCRIPTION:Abstract not available
LOCATION:Bridgetower Room\, Trinity Hall
END:VEVENT
END:VCALENDAR
