BEGIN:VCALENDAR
VERSION:2.0
PRODID:-//Talks.cam//talks.cam.ac.uk//
X-WR-CALNAME:Talks.cam
BEGIN:VEVENT
SUMMARY:Using brain organoids to understand cell fate - Madeline Lancaster
 \, MRC-LMB\, Cambridge
DTSTART:20240212T161500Z
DTEND:20240212T180000Z
UID:TALK209521@talks.cam.ac.uk
CONTACT:Ole Paulsen
DESCRIPTION:Abstract not available
LOCATION:Hodgkin-Huxley Seminar Room
END:VEVENT
END:VCALENDAR
