BEGIN:VCALENDAR
VERSION:2.0
PRODID:-//Talks.cam//talks.cam.ac.uk//
X-WR-CALNAME:Talks.cam
BEGIN:VEVENT
SUMMARY:Black holes as particles accelerators - Max Bañados (Universidad 
 Catolica de Chile/Oxford Astrophysics)
DTSTART:20091209T141500Z
DTEND:20091209T151500Z
UID:TALK20974@talks.cam.ac.uk
CONTACT:Baojiu Li
DESCRIPTION:Abstract not available
LOCATION:MR3\, Centre for Mathematical Sciences
END:VEVENT
END:VCALENDAR
