BEGIN:VCALENDAR
VERSION:2.0
PRODID:-//Talks.cam//talks.cam.ac.uk//
X-WR-CALNAME:Talks.cam
BEGIN:VEVENT
SUMMARY:Infrastructural Fear: or When Climate Change Isn’t an Allegory -
  Stephen Lezak\, PhD candidate\, Scott Polar Research Institute\, Universi
 ty of Cambridge\, Gates scholar
DTSTART:20240222T140000Z
DTEND:20240222T150000Z
UID:TALK211066@talks.cam.ac.uk
CONTACT:Emilie Canova
DESCRIPTION:Social scientists readily look for the ways in which climate c
 hange serves as an allegory or a prism through which people understand con
 temporary and future politics of life on Earth. In two imminently-threaten
 ed Indigenous communities in Western Alaska\, climate change rarely receiv
 es such treatment. Fear of climate change is infrastructural\, not existen
 tial. These rural and Indigenous vantages onto the Anthropocene challenge 
 the tendency to extract meaning from environmental change. At the same tim
 e\, they contrast with other Indigenous viewpoints\, such as those that at
 tribute climatic change to sociocultural change. In this talk\, I explore 
 what it looks like when climate change is not about anything other than it
 self\, and the ensuing politics of pragmatism that characterise two Indige
 nous communities' subsequent responses.
LOCATION:Hybrid: Seminar room\, SPRI &amp\; Zoom - email organiser for det
 ails
END:VEVENT
END:VCALENDAR
