BEGIN:VCALENDAR
VERSION:2.0
PRODID:-//Talks.cam//talks.cam.ac.uk//
X-WR-CALNAME:Talks.cam
BEGIN:VEVENT
SUMMARY:Content Centric Networking - Van Jacobson (PARC)
DTSTART:20091029T140000Z
DTEND:20091029T160000Z
UID:TALK21229@talks.cam.ac.uk
CONTACT:Eiko Yoneki
DESCRIPTION:Abstract is not available. \n\nhttp://www.ccnx.org/content/con
 tent-centric-networking-resources \n\nhttp://www.parc.com/content/attachme
 nts/networking-named-content-preprint2.pdf\n\n
LOCATION:FW11\, Computer Laboratory\, William Gates Builiding
END:VEVENT
END:VCALENDAR
