BEGIN:VCALENDAR
VERSION:2.0
PRODID:-//Talks.cam//talks.cam.ac.uk//
X-WR-CALNAME:Talks.cam
BEGIN:VEVENT
SUMMARY:Discussion of Plaisier et al (2009) - Mike Fletcher
DTSTART:20091109T153000Z
DTEND:20091109T163000Z
UID:TALK21257@talks.cam.ac.uk
CONTACT:Florian Markowetz
DESCRIPTION:Citation: Plaisier CL\, Horvath S\, Huertas-Vazquez A\, Cruz-B
 autista I\, Herrera MF\, et al. (2009) \n*A Systems Genetics Approach Impl
 icates USF1\,\nFADS3\, and Other Causal Candidate Genes for Familial Combi
 ned\nHyperlipidemia.* \nPLoS Genet 5(9): e1000642.\ndoi:10.1371/journal.pg
 en.1000642\n\nhttp://dx.doi.org/10.1371/journal.pgen.1000642
LOCATION:Room 132\, CRI
END:VEVENT
END:VCALENDAR
