BEGIN:VCALENDAR
VERSION:2.0
PRODID:-//Talks.cam//talks.cam.ac.uk//
X-WR-CALNAME:Talks.cam
BEGIN:VEVENT
SUMMARY:Title to be confirmed - Lara Mani\, Centre for the Study of Existe
 ntial Risk
DTSTART:20250203T190000Z
DTEND:20250203T210000Z
UID:TALK212974@talks.cam.ac.uk
CONTACT:Peter Watson
DESCRIPTION:Abstract not available
LOCATION:Venue to be confirmed
END:VEVENT
END:VCALENDAR
