BEGIN:VCALENDAR
VERSION:2.0
PRODID:-//Talks.cam//talks.cam.ac.uk//
X-WR-CALNAME:Talks.cam
BEGIN:VEVENT
SUMMARY:Cobalt-Catalysed Selective Hydroboration and Multi-Borylation of U
 nsaturated Hydrocarbons - Prof. Shaozhong Ge\, National University of Sing
 apore
DTSTART:20240606T150000Z
DTEND:20240606T160000Z
UID:TALK212983@talks.cam.ac.uk
CONTACT:Dr. Robert J. Phipps
DESCRIPTION:Abstract not available
LOCATION:Dept. of Chemistry\, Wolfson Lecture Theatre
END:VEVENT
END:VCALENDAR
