BEGIN:VCALENDAR
VERSION:2.0
PRODID:-//Talks.cam//talks.cam.ac.uk//
X-WR-CALNAME:Talks.cam
BEGIN:VEVENT
SUMMARY:Resolution: New Insights from Modular Symmetry in Conformal Field 
 Theory - Eric Perlmutter\, IPhT
DTSTART:20240501T130000Z
DTEND:20240501T140000Z
UID:TALK213445@talks.cam.ac.uk
CONTACT:Ronak M Soni
DESCRIPTION:I will explain how tools from the theory of modular forms may 
 be used to resolve operator spectra of conformal field theories. This lead
 s to a quantitative framework for diagnosing quantum chaos and random matr
 ix behavior in field theory and gravity.
LOCATION:MR2
END:VEVENT
END:VCALENDAR
