BEGIN:VCALENDAR
VERSION:2.0
PRODID:-//Talks.cam//talks.cam.ac.uk//
X-WR-CALNAME:Talks.cam
BEGIN:VEVENT
SUMMARY:Utrumne est Ornatum: Space\, Scale and Scaling as structural const
 raints in some recent compositions - Mark Gotham (Durham University)
DTSTART:20240402T123000Z
DTEND:20240402T132000Z
UID:TALK213718@talks.cam.ac.uk
DESCRIPTION:
LOCATION:Seminar Room 1\, Newton Institute
END:VEVENT
END:VCALENDAR
