BEGIN:VCALENDAR
VERSION:2.0
PRODID:-//Talks.cam//talks.cam.ac.uk//
X-WR-CALNAME:Talks.cam
BEGIN:VEVENT
SUMMARY:Pop-up! Unveiling 3D worlds from paper - Peter Dahmen (None / Othe
 r)
DTSTART:20240403T083000Z
DTEND:20240403T092000Z
UID:TALK213742@talks.cam.ac.uk
DESCRIPTION:
LOCATION:Seminar Room 1\, Newton Institute
END:VEVENT
END:VCALENDAR
