BEGIN:VCALENDAR
VERSION:2.0
PRODID:-//Talks.cam//talks.cam.ac.uk//
X-WR-CALNAME:Talks.cam
BEGIN:VEVENT
SUMMARY:Graph-based Statistical Causality and Decision Making - Silvia Chi
 appa (Google DeepMind Technologies Limited)
DTSTART:20240409T131500Z
DTEND:20240409T134000Z
UID:TALK213925@talks.cam.ac.uk
DESCRIPTION:
LOCATION:External
END:VEVENT
END:VCALENDAR
