BEGIN:VCALENDAR
VERSION:2.0
PRODID:-//Talks.cam//talks.cam.ac.uk//
X-WR-CALNAME:Talks.cam
BEGIN:VEVENT
SUMMARY:A Probabilistic View of the LLM Residual Stream - James Hensman (M
 icrosoft Research - Cambridge)
DTSTART:20240409T145500Z
DTEND:20240409T152000Z
UID:TALK213949@talks.cam.ac.uk
DESCRIPTION:
LOCATION:External
END:VEVENT
END:VCALENDAR
