BEGIN:VCALENDAR
VERSION:2.0
PRODID:-//Talks.cam//talks.cam.ac.uk//
X-WR-CALNAME:Talks.cam
BEGIN:VEVENT
SUMMARY:Generative Modelling Under Differential Privacy - Sahra Ghalebikes
 abi (Google)
DTSTART:20240426T103500Z
DTEND:20240426T111500Z
UID:TALK214282@talks.cam.ac.uk
DESCRIPTION:
LOCATION:External
END:VEVENT
END:VCALENDAR
