BEGIN:VCALENDAR
VERSION:2.0
PRODID:-//Talks.cam//talks.cam.ac.uk//
X-WR-CALNAME:Talks.cam
BEGIN:VEVENT
SUMMARY:Projectively induced Kaehler metrics and related issues - Michela 
 Zedda (Università degli Studi di Parma)
DTSTART:20240514T091500Z
DTEND:20240514T101500Z
UID:TALK214345@talks.cam.ac.uk
DESCRIPTION:This talk gives an overview of the problematic related to proj
 ectively induced and balanced Kaehler metrics\, and to the existence of a 
 Tian-Yau-Zelditch expansion of the epsilon-function. Differences between c
 ompact and noncompact case will be highlighted. The talk is based on joint
  works with Simone Cristofori (Universit&agrave\; di Parma)\, Andrea Loi a
 nd Fabio Zuddas (Universit&agrave\; di Cagliari).
LOCATION:Seminar Room 1\, Newton Institute
END:VEVENT
END:VCALENDAR
