BEGIN:VCALENDAR
VERSION:2.0
PRODID:-//Talks.cam//talks.cam.ac.uk//
X-WR-CALNAME:Talks.cam
BEGIN:VEVENT
SUMMARY:John Locke and the third Earl of Shaftesbury: the Disintegration o
 f a Friendship - Prof. John Milton (King’s College\, London)
DTSTART:20091219T120000Z
DTEND:20091219T130000Z
UID:TALK21455@talks.cam.ac.uk
CONTACT:Richard Serjeantson
DESCRIPTION:Abstract not available
LOCATION:Trinity College\, Cambridge
END:VEVENT
END:VCALENDAR
