BEGIN:VCALENDAR
VERSION:2.0
PRODID:-//Talks.cam//talks.cam.ac.uk//
X-WR-CALNAME:Talks.cam
BEGIN:VEVENT
SUMMARY:ECFP: At the Interface of Academia and Industry - Daniel Hodgson (
 University of Edinburgh)
DTSTART:20240912T131500Z
DTEND:20240912T140000Z
UID:TALK215086@talks.cam.ac.uk
DESCRIPTION:
LOCATION:External
END:VEVENT
END:VCALENDAR
