BEGIN:VCALENDAR
VERSION:2.0
PRODID:-//Talks.cam//talks.cam.ac.uk//
X-WR-CALNAME:Talks.cam
BEGIN:VEVENT
SUMMARY:Effect of Extreme Nanoconfinement on Polymer Dynamics\, Thermodyna
 mics and Mechanics - Daeyeon Lee (University of Pennsylvania)
DTSTART:20240912T095500Z
DTEND:20240912T103500Z
UID:TALK215143@talks.cam.ac.uk
DESCRIPTION:
LOCATION:External
END:VEVENT
END:VCALENDAR
