BEGIN:VCALENDAR
VERSION:2.0
PRODID:-//Talks.cam//talks.cam.ac.uk//
X-WR-CALNAME:Talks.cam
BEGIN:VEVENT
SUMMARY:Spontaneous Symmetry Breaking in Beta-Plane Turbulence - Laura Cop
 e (University of Leeds)
DTSTART:20240520T130000Z
DTEND:20240520T140000Z
UID:TALK215713@talks.cam.ac.uk
DESCRIPTION:
LOCATION:Seminar Room 1\, Newton Institute
END:VEVENT
END:VCALENDAR
