BEGIN:VCALENDAR
VERSION:2.0
PRODID:-//Talks.cam//talks.cam.ac.uk//
X-WR-CALNAME:Talks.cam
BEGIN:VEVENT
SUMMARY:Horizontal staircase formation in ocean fronts via symmetric insta
 bility-- a transport barrier or blender? - Leif Thomas (Stanford Universit
 y)
DTSTART:20240523T130000Z
DTEND:20240523T140000Z
UID:TALK215788@talks.cam.ac.uk
DESCRIPTION:
LOCATION:Seminar Room 1\, Newton Institute
END:VEVENT
END:VCALENDAR
