BEGIN:VCALENDAR
VERSION:2.0
PRODID:-//Talks.cam//talks.cam.ac.uk//
X-WR-CALNAME:Talks.cam
BEGIN:VEVENT
SUMMARY:Torus fibrations and affine manifolds for fun and profit - Peter Z
 aika
DTSTART:20240528T120000Z
DTEND:20240528T130000Z
UID:TALK216352@talks.cam.ac.uk
CONTACT:Adrian Dawid
DESCRIPTION:In 1991\, Candelas\, de la Ossa\, Green\, and Parkes calculate
 d the instanton predictions for the quintic threefold and this started an 
 exciting new endeavor by the name of mirror symmetry. Later\, physical arg
 uments gave rise to a more geometric picture of mirror symmetry\, known as
  the SYZ conjecture. In this talk we shall explore this conjecture\, and l
 earn about the general strategy of the Gross-Siebert program and how it is
  motivated. Time-permitting we’ll then see how tropical geometry natural
 ly comes into the picture\, and how nice it is to play with tropical curve
 s.
LOCATION:MR13
END:VEVENT
END:VCALENDAR
